BEGIN:VCALENDAR
VERSION:2.0
PRODID:-//Squarespace Inc/Squarespace 6//v6//EN
BEGIN:VEVENT
UID:5c5cb14a4785d36a89401f79@squarespace.com
DTSTAMP:20190227T183657Z
DTSTART:20190304T230000Z
DTEND:20190305T020000Z
SUMMARY:Supervision - Case Consultation Group
END:VEVENT
END:VCALENDAR
