BEGIN:VCALENDAR
VERSION:2.0
PRODID:-//Squarespace Inc/Squarespace 6//v6//EN
BEGIN:VEVENT
UID:5c5cb4789b747a3d52761515@squarespace.com
DTSTAMP:20190227T184439Z
DTSTART:20190430T000000Z
DTEND:20190430T030000Z
SUMMARY:Case Consultation Group
END:VEVENT
END:VCALENDAR
