BEGIN:VCALENDAR
VERSION:2.0
PRODID:-//Squarespace Inc/Squarespace 6//v6//EN
BEGIN:VEVENT
UID:5c5cb41571c10b14a42860ab@squarespace.com
DTSTAMP:20190227T184415Z
DTSTART:20190401T230000Z
DTEND:20190402T020000Z
SUMMARY:Supervision - Case Consultation Group
END:VEVENT
END:VCALENDAR
