BEGIN:VCALENDAR
VERSION:2.0
PRODID:-//Squarespace Inc/Squarespace 6//v6//EN
BEGIN:VEVENT
UID:5e001f4a4328177cde536965@squarespace.com
DTSTAMP:20200130T041203Z
DTSTART:20200618T223000Z
DTEND:20200619T073000Z
SUMMARY:Body Image Workshop with Marci Evans &amp\; Fiona Sutherland - MELB
 OURNE
GEO:-37.813628;144.963058
LOCATION:Melbourne\, Australia
END:VEVENT
END:VCALENDAR
