BEGIN:VCALENDAR
VERSION:2.0
PRODID:-//Squarespace Inc/Squarespace 6//v6//EN
BEGIN:VEVENT
UID:5ca2e187eb3931532f7aed40@squarespace.com
DTSTAMP:20190402T041446Z
DTSTART:20190821T223000Z
DTEND:20190823T233000Z
SUMMARY:ANZAED Conference (Adelaide)
END:VEVENT
END:VCALENDAR
