BEGIN:VCALENDAR
VERSION:2.0
PRODID:-//Squarespace Inc/Squarespace 6//v6//EN
BEGIN:VEVENT
UID:5c6d34504e17b638b9100d08@squarespace.com
DTSTAMP:20190227T183855Z
DTSTART:20190404T220000Z
DTEND:20190406T050000Z
SUMMARY:ANZAED Autumn Series
GEO:-36.844502;174.767215
LOCATION:ANZAED\, 8 Customs Street East\, Auckland\, New Zealand
END:VEVENT
END:VCALENDAR
