BEGIN:VCALENDAR
VERSION:2.0
PRODID:-//Squarespace Inc/Squarespace 6//v6//EN
BEGIN:VEVENT
UID:5d8ecf04f96fbc31e99f99b8@squarespace.com
DTSTAMP:20191014T075739Z
DTSTART:20200203T220000Z
DTEND:20200205T060000Z
SUMMARY:Eating Disorder Essentials for Dietitians - MELBOURNE
END:VEVENT
END:VCALENDAR
