BEGIN:VCALENDAR
VERSION:2.0
PRODID:-//Squarespace Inc/Squarespace 6//v6//EN
BEGIN:VEVENT
UID:5e3529fdcd5a0d4354ba5393@squarespace.com
DTSTAMP:20200201T074313Z
DTSTART:20200405T210000Z
DTEND:20200405T220000Z
SUMMARY:2020 EDRDpro Symposium Week 1
END:VEVENT
END:VCALENDAR
