BEGIN:VCALENDAR
VERSION:2.0
PRODID:-//Squarespace Inc/Squarespace 6//v6//EN
BEGIN:VEVENT
UID:5e352c2f26acc86be0b716ca@squarespace.com
DTSTAMP:20200201T074351Z
DTSTART:20200517T210000Z
DTEND:20200517T220000Z
SUMMARY:2020 EDRDpro Symposium Week 4
END:VEVENT
END:VCALENDAR
