BEGIN:VCALENDAR
VERSION:2.0
PRODID:-//Squarespace Inc/Squarespace 6//v6//EN
BEGIN:VEVENT
UID:5e352c6012c5156ca6fab827@squarespace.com
DTSTAMP:20200201T074441Z
DTSTART:20200607T210000Z
DTEND:20200607T220000Z
SUMMARY:2020 EDRDpro Symposium Week 6
END:VEVENT
END:VCALENDAR
