BEGIN:VCALENDAR
VERSION:2.0
PRODID:-//Squarespace Inc/Squarespace 6//v6//EN
BEGIN:VEVENT
UID:5e352bf49995006209c03c11@squarespace.com
DTSTAMP:20200201T074302Z
DTSTART:20200419T210000Z
DTEND:20200419T220000Z
SUMMARY:2020 EDRDpro Symposium Week 2
END:VEVENT
END:VCALENDAR
