BEGIN:VCALENDAR
VERSION:2.0
PRODID:-//Squarespace Inc/Squarespace 6//v6//EN
BEGIN:VEVENT
UID:5c390df970a6add8c2e510b1@squarespace.com
DTSTAMP:20190509T070745Z
DTSTART:20190319T220000Z
DTEND:20190320T053000Z
SUMMARY:Bringing Presence to Tough Conversations (San Diego)
GEO:32.991037;-117.25443
LOCATION:LePort Montessori School\, 1010 Solana Drive\, Del Mar\, United St
 ates
END:VEVENT
END:VCALENDAR
