BEGIN:VCALENDAR
VERSION:2.0
PRODID:-//Squarespace Inc/Squarespace 6//v6//EN
BEGIN:VEVENT
UID:5cd3d1c153450a096cbfb6f2@squarespace.com
DTSTAMP:20190513T222820Z
DTSTART:20190718T230000Z
DTEND:20190719T063000Z
SUMMARY:Bringing Presence to Tough Conversations MELBOURNE
GEO:-37.813522;145.085528
LOCATION:Balwyn Library\, 336 Whitehorse Road\, Balwyn\, VIC\, 3103\, Austr
 alia
END:VEVENT
END:VCALENDAR
