BEGIN:VCALENDAR
VERSION:2.0
PRODID:-//Squarespace Inc/Squarespace 6//v6//EN
BEGIN:VEVENT
UID:5c386b2f8a922d763a1fdff7@squarespace.com
DTSTAMP:20190302T043311Z
DTSTART:20190316T220000Z
DTEND:20190317T053000Z
SUMMARY:Bringing Presence to Tough Conversations (New York)
GEO:40.753198;-73.993242
LOCATION:New York City\, 505 Eighth Avenue\, New York\, NY\, 10001\, United 
 States
END:VEVENT
END:VCALENDAR
